BEGIN:VCALENDAR
VERSION:2.0
PRODID:-//To Be Continued | Losheim am See - ECPv6.15.20//NONSGML v1.0//EN
CALSCALE:GREGORIAN
METHOD:PUBLISH
X-WR-CALNAME:To Be Continued | Losheim am See
X-ORIGINAL-URL:https://www.tbc-band.de
X-WR-CALDESC:Veranstaltungen für To Be Continued | Losheim am See
REFRESH-INTERVAL;VALUE=DURATION:PT1H
X-Robots-Tag:noindex
X-PUBLISHED-TTL:PT1H
BEGIN:VTIMEZONE
TZID:Europe/Luxembourg
BEGIN:DAYLIGHT
TZOFFSETFROM:+0100
TZOFFSETTO:+0200
TZNAME:CEST
DTSTART:20250330T010000
END:DAYLIGHT
BEGIN:STANDARD
TZOFFSETFROM:+0200
TZOFFSETTO:+0100
TZNAME:CET
DTSTART:20251026T010000
END:STANDARD
BEGIN:DAYLIGHT
TZOFFSETFROM:+0100
TZOFFSETTO:+0200
TZNAME:CEST
DTSTART:20260329T010000
END:DAYLIGHT
BEGIN:STANDARD
TZOFFSETFROM:+0200
TZOFFSETTO:+0100
TZNAME:CET
DTSTART:20261025T010000
END:STANDARD
BEGIN:DAYLIGHT
TZOFFSETFROM:+0100
TZOFFSETTO:+0200
TZNAME:CEST
DTSTART:20270328T010000
END:DAYLIGHT
BEGIN:STANDARD
TZOFFSETFROM:+0200
TZOFFSETTO:+0100
TZNAME:CET
DTSTART:20271031T010000
END:STANDARD
BEGIN:DAYLIGHT
TZOFFSETFROM:+0100
TZOFFSETTO:+0200
TZNAME:CEST
DTSTART:20280326T010000
END:DAYLIGHT
BEGIN:STANDARD
TZOFFSETFROM:+0200
TZOFFSETTO:+0100
TZNAME:CET
DTSTART:20281029T010000
END:STANDARD
END:VTIMEZONE
BEGIN:VEVENT
DTSTART;TZID=Europe/Luxembourg:20260523T190000
DTEND;TZID=Europe/Luxembourg:20260523T230000
DTSTAMP:20260422T113950
CREATED:20260406T111114Z
LAST-MODIFIED:20260406T111114Z
UID:4059-1779562800-1779577200@www.tbc-band.de
SUMMARY:RittSchock 2026 Mitlosheim
DESCRIPTION:Kommt und rockt mit To Be Continued die Rittscheid-Hütte in Mitlosheim auf dem diesjährigen „RittSchock“ am Pfingstwochenende 2026
URL:https://www.tbc-band.de/event/rittscheid-huette-mitlosheim-2026/
LOCATION:Rittscheid-Hütte Mitlosheim\, Flürchen 75\, Mitlosheim\, Saarland\, 66679\, Germany
ATTACH;FMTTYPE=image/jpeg:https://www.tbc-band.de/wp-content/uploads/2026/04/647799815_952631033770516_4815935038612331024_n.jpg
END:VEVENT
BEGIN:VEVENT
DTSTART;TZID=Europe/Luxembourg:20260713T190000
DTEND;TZID=Europe/Luxembourg:20260713T230000
DTSTAMP:20260422T113950
CREATED:20260406T111649Z
LAST-MODIFIED:20260406T111649Z
UID:4065-1783969200-1783983600@www.tbc-band.de
SUMMARY:Kirmes Losheim 2026
DESCRIPTION:Kommt und rockt mit uns am Kirmesmontag 2026 in Losheim!
URL:https://www.tbc-band.de/event/kirmes-losheim-2026/
LOCATION:Losheim am See\, Ortsmitte\, Losheim am See\, Saarland\, 66679\, Germany
END:VEVENT
BEGIN:VEVENT
DTSTART;TZID=Europe/Luxembourg:20261223T190000
DTEND;TZID=Europe/Luxembourg:20261223T233000
DTSTAMP:20260422T113950
CREATED:20260406T112923Z
LAST-MODIFIED:20260406T112923Z
UID:4068-1798052400-1798068600@www.tbc-band.de
SUMMARY:Heiligabend Vorabend Rock 2026 im Saalbau
DESCRIPTION:Traditioneller Heiligabend Vorabend Rock (Vorweihnachtsrock) 2026 von To Be Continued am 23. Dezember 2026 im Saalbau in Losheim am See
URL:https://www.tbc-band.de/event/havar-2026/
LOCATION:Saalbau Losheim\, Weiskirchener Str. 9\, Losheim am See\, 66679\, Germany
END:VEVENT
BEGIN:VEVENT
DTSTART;VALUE=DATE:20270101
DTEND;VALUE=DATE:20280101
DTSTAMP:20260422T113950
CREATED:20260406T110052Z
LAST-MODIFIED:20260406T112050Z
UID:3916-1798761600-1830297599@www.tbc-band.de
SUMMARY:Jetzt buchen
DESCRIPTION:Jetzt buchen!\nDu möchtest TBC live sehen? Schreib jetzt an hello [at] tbc-band.de und buch uns für Dein Event\, Deinen Verein\, Deine Party\, … \nOder noch einfacher: Schreib uns auf \nInstagram\noder\nFacebook \n  \nDeine Freunde von To Be Continued freuen sich auf Deine Anfrage!
URL:https://www.tbc-band.de/event/jetzt-buchen/
LOCATION:Saarland\, Saarland/Rheinland-Pfalz/Luxemburg\, Saarland\, Germany
ATTACH;FMTTYPE=image/jpeg:https://www.tbc-band.de/wp-content/uploads/2024/10/cropped-cropped-Banner_web_2500x1429.jpg
END:VEVENT
END:VCALENDAR